BEGIN:VCALENDAR
VERSION:2.0
PRODID:-//Summit University - ECPv6.15.20//NONSGML v1.0//EN
CALSCALE:GREGORIAN
METHOD:PUBLISH
X-WR-CALNAME:Summit University
X-ORIGINAL-URL:https://summituniversity.org
X-WR-CALDESC:Events for Summit University
REFRESH-INTERVAL;VALUE=DURATION:PT1H
X-Robots-Tag:noindex
X-PUBLISHED-TTL:PT1H
BEGIN:VTIMEZONE
TZID:America/Denver
BEGIN:DAYLIGHT
TZOFFSETFROM:-0700
TZOFFSETTO:-0600
TZNAME:MDT
DTSTART:20230312T090000
END:DAYLIGHT
BEGIN:STANDARD
TZOFFSETFROM:-0600
TZOFFSETTO:-0700
TZNAME:MST
DTSTART:20231105T080000
END:STANDARD
BEGIN:DAYLIGHT
TZOFFSETFROM:-0700
TZOFFSETTO:-0600
TZNAME:MDT
DTSTART:20240310T090000
END:DAYLIGHT
BEGIN:STANDARD
TZOFFSETFROM:-0600
TZOFFSETTO:-0700
TZNAME:MST
DTSTART:20241103T080000
END:STANDARD
BEGIN:DAYLIGHT
TZOFFSETFROM:-0700
TZOFFSETTO:-0600
TZNAME:MDT
DTSTART:20250309T090000
END:DAYLIGHT
BEGIN:STANDARD
TZOFFSETFROM:-0600
TZOFFSETTO:-0700
TZNAME:MST
DTSTART:20251102T080000
END:STANDARD
END:VTIMEZONE
BEGIN:VEVENT
DTSTART;TZID=America/Denver:20240107T080000
DTEND;TZID=America/Denver:20240114T170000
DTSTAMP:20260423T201437
CREATED:20231010T181222Z
LAST-MODIFIED:20231010T182113Z
UID:226483-1704614400-1705251600@summituniversity.org
SUMMARY:Be the Light of the World – Christhood in Action  (Australia)
DESCRIPTION:Be the Light of the World – Christhood in Action \nThe call of love beckons you to the secret chamber of the heart— \nto meet your Lord\, the bridegroom\, at the appointed hour.  The wedding date is set.  Yet your wedding garment is not completely woven.  And the Son of God\, one with your True Self\, commands you to hurry.  The hour is late\, and souls are being lost amid a great war of darkness on earth. \nBut I am just one soul keeping the flame of life on this planet\, you say. What can I do when the darkness seems insurmountable? Archangel Gabriel tells us that the person “who will claim his Christhood and call forth the Father and the Son to take up their abode in his temple may displace the darkness of ten thousand-times-ten thousand individuals.”¹ \nThe real question is: Have you claimed your Christhood\, have you become the living Teaching and the living Word—the Light of the World? Or is there something holding you back\, keeping you from fully answering Jesus’ Call: “I command you to allow that Christ to descend into your temple.”² Your Christhood can save a world. But only when you put the fullness of your Christhood into action. \nIf you desire with all your heart to be the Light of the World yet feel that something is preventing you from that permanent bonding to your Christ Self\, join us this summer for an unforgettable retreat to learn powerful keys to becoming the Christ and discover what it truly means to Be the Light of the World! \nHighlights include: \n\nLearn why individual Christhood is the only solution to planetary Darkness and the key to reaching the lightbearers trapped in the Darkness.\nStudy enlightening teachings on Christhood\, including unpublished Summit University lectures\, and engage in meditations and devotions for accelerating on the path of personal Christhood.\nParticipate in interactive workshops designed to help you see as Christ sees\, think as Christ thinks\, and feel as Christ feels.\nUnderstand the forces that oppose your Christhood and what you can do about them.\nTake time for personal reflection on what it means for you to pursue the imitation of Christ and be Christhood in action.\nConnect with likeminded pursuers of Christhood and develop plans for reaching out to lightbearers in need of the Light of the World.\nBe inspired by dictations from ascended masters such as Archangel Jophiel\, Archeia Hope\, Sanat Kumara\, Jesus Christ\, the Maha Chohan\, and Helios and Vesta.\nAnd much more!
URL:https://summituniversity.org/event/be-the-light-of-the-world-christhood-in-action-2/
LOCATION:Australia\, Wisemans Retreat Centre\, 5564 Old Northern Rd\,\, Wisemans Ferry NSW 2775\, Australia
CATEGORIES:Seminars
ATTACH;FMTTYPE=image/jpeg:https://summituniversity.org/wp-content/uploads/2023/10/58.jpg
END:VEVENT
END:VCALENDAR