BEGIN:VCALENDAR
VERSION:2.0
PRODID:-//Summit University - ECPv6.15.20//NONSGML v1.0//EN
CALSCALE:GREGORIAN
METHOD:PUBLISH
X-WR-CALNAME:Summit University
X-ORIGINAL-URL:https://summituniversity.org
X-WR-CALDESC:Events for Summit University
REFRESH-INTERVAL;VALUE=DURATION:PT1H
X-Robots-Tag:noindex
X-PUBLISHED-TTL:PT1H
BEGIN:VTIMEZONE
TZID:America/Denver
BEGIN:DAYLIGHT
TZOFFSETFROM:-0700
TZOFFSETTO:-0600
TZNAME:MDT
DTSTART:20230312T090000
END:DAYLIGHT
BEGIN:STANDARD
TZOFFSETFROM:-0600
TZOFFSETTO:-0700
TZNAME:MST
DTSTART:20231105T080000
END:STANDARD
BEGIN:DAYLIGHT
TZOFFSETFROM:-0700
TZOFFSETTO:-0600
TZNAME:MDT
DTSTART:20240310T090000
END:DAYLIGHT
BEGIN:STANDARD
TZOFFSETFROM:-0600
TZOFFSETTO:-0700
TZNAME:MST
DTSTART:20241103T080000
END:STANDARD
BEGIN:DAYLIGHT
TZOFFSETFROM:-0700
TZOFFSETTO:-0600
TZNAME:MDT
DTSTART:20250309T090000
END:DAYLIGHT
BEGIN:STANDARD
TZOFFSETFROM:-0600
TZOFFSETTO:-0700
TZNAME:MST
DTSTART:20251102T080000
END:STANDARD
END:VTIMEZONE
BEGIN:VEVENT
DTSTART;TZID=America/Denver:20240308T080000
DTEND;TZID=America/Denver:20240310T170000
DTSTAMP:20260423T175420
CREATED:20230920T194808Z
LAST-MODIFIED:20231223T163938Z
UID:226154-1709884800-1710090000@summituniversity.org
SUMMARY:The Path of the Bodhisattva. Part 3. (Holland)
DESCRIPTION:The Path of the Bodhisattva. Part 3\nThe path of the bodhisattva is the path of Love\, of laying down one's life for one's friends— to love all life free. It is the path of the Christed Ones who willingly bear the burden of a wayward humanity. It is the path of the unascended masters of the Himalayas—ageless saints who hold the balance by radiating light into this world. It is also the path of ascended masters who choose to remain with earth to teach and help its evolutions\, rather than continue on to higher realms of cosmic service. And it is the path of those of us on earth who desire to follow in their footsteps. \nTopics include: \n\nDive deeply into the preliminary stage of the bodhisattva path.\nDiscover what true purity of heart is and how to manifest it in your life Learn about the importance of the guru-chela relationship and develop a relationship with one of the lords of the seven rays.\nGain deeper understanding of the Ritual of Holy Communion\, the five secret rays\, and the process of soul refinement and purification.\n\n  \nDictations (audio/video replays) by: \nPaul the Venetian\, the Maha Chohan\, Mighty Cosmos and Vajrasattva\, spokesman for the Five Dhyani Buddhas This seminar includes a unique purification ritual called a clearance\, and concludes with a chakra blessing. \nNote: The Path of the Bodhisattva\, Part 1: Develop the Compassionate Heart is not a pre- requisite for this seminar\, though it is helpful to attend Part 1 first.
URL:https://summituniversity.org/event/the-path-of-the-bodhisattva-part-2-holland/
LOCATION:Amersfoort\, Holland\, Snelliuspad 23\, 3817 TN\, Amersfoort\, TN\, Netherlands\,\, Netherlands
CATEGORIES:Seminars
ATTACH;FMTTYPE=image/png:https://summituniversity.org/wp-content/uploads/2023/09/3.png
END:VEVENT
END:VCALENDAR