BEGIN:VCALENDAR
VERSION:2.0
PRODID:-//Summit University - ECPv6.15.20//NONSGML v1.0//EN
CALSCALE:GREGORIAN
METHOD:PUBLISH
X-ORIGINAL-URL:https://summituniversity.org
X-WR-CALDESC:Events for Summit University
REFRESH-INTERVAL;VALUE=DURATION:PT1H
X-Robots-Tag:noindex
X-PUBLISHED-TTL:PT1H
BEGIN:VTIMEZONE
TZID:Europe/Paris
BEGIN:DAYLIGHT
TZOFFSETFROM:+0100
TZOFFSETTO:+0200
TZNAME:CEST
DTSTART:20230326T010000
END:DAYLIGHT
BEGIN:STANDARD
TZOFFSETFROM:+0200
TZOFFSETTO:+0100
TZNAME:CET
DTSTART:20231029T010000
END:STANDARD
BEGIN:DAYLIGHT
TZOFFSETFROM:+0100
TZOFFSETTO:+0200
TZNAME:CEST
DTSTART:20240331T010000
END:DAYLIGHT
BEGIN:STANDARD
TZOFFSETFROM:+0200
TZOFFSETTO:+0100
TZNAME:CET
DTSTART:20241027T010000
END:STANDARD
BEGIN:DAYLIGHT
TZOFFSETFROM:+0100
TZOFFSETTO:+0200
TZNAME:CEST
DTSTART:20250330T010000
END:DAYLIGHT
BEGIN:STANDARD
TZOFFSETFROM:+0200
TZOFFSETTO:+0100
TZNAME:CET
DTSTART:20251026T010000
END:STANDARD
END:VTIMEZONE
BEGIN:VEVENT
DTSTART;TZID=Europe/Paris:20240809T080000
DTEND;TZID=Europe/Paris:20240811T170000
DTSTAMP:20260423T111449
CREATED:20231223T170231Z
LAST-MODIFIED:20240724T220122Z
UID:227026-1723190400-1723395600@summituniversity.org
SUMMARY:Ascend Daily! Enter the Spiral of Immortal Life (Medellin\, Colombia)
DESCRIPTION:Ascension. It’s a word full of mystery and wonder. It’s also the goal of life as defined by the ascended masters and their messengers. But it is not easy to measure one’s own progress on the spiritual path toward the ascension\, Hence\, the need for divinely directed discernment. \nEnter Serapis Bey! As the Hierarch of the Ascension Temple at Luxor\, this incomparable chohan\, who loves your soul more than you’ll ever know\, is ready to teach you from his very own manual\, Dossier on the Ascension. He will show you what is important and what’s not in striving toward your ascension. And he will guide you on making the ascension an all-encompassing journey of love that will lead you right back to the heart of your very own divinity\, your reunion with your very own I AM God Presence. \nI call you to Luxor! I call you to take your entrance exam. For we are receiving students for a course that will endure throughout this year—a course on the ascension. \n—Serapis Bey\, Pearls of Wisdom® vol. 63 no. 21 \n  \nThis seminar includes: \n\nEnlightening unpublished Summit University lectures from Elizabeth Clare Prophet on Dossier on the Ascension\nLife-changing teachings on the threefold flame\, the deathless solar body\, balancing karma\, chelaship\, the path of initiation\, divine friendship with the ascended masters and more\nIlluminating exercises and reflections to help you discern your next steps on the path of the ascension\nInspiring dictations from Serapis Bey\, Lanello and the ascended lady master Clara Louise on walking the path of the ascension\nA special chakra blessing with the messenger’s amethyst egg\, charged by Serapis Bey with a focus of the ascension flame\n\n  \n\n\n\n\nMark L. Prophet\, El Dossier de la Ascencion (Summit University Press®)\,\nAnnice Booth\, El Sendero a Vuestra Ascension (Summit University Press®)\,\nMark L. Prophet and Elizabeth Clare Prophet\,\nLos Maestros y el Sendero Espiritual (Summit University Press®)\,\nBiblia (King James Version)\n\n  \n\nBienvenido a “Asciende diariamente! Entra en la espiral de la vida inmortal”\ncon Serapis Bey\, Amen Bey\, Clara Louise y la Hermandad de Luxor\nAscension. Es una palabra llena de misterio y maravillas. Es tambien la meta de la vida como es definidad por los maestros ascendido y sus mensajeros. Pero la ascension no es una meta garantizada\, y no es facil medir el progreso desde los estandares humanos. El sendero de la ascension requiere lucha y el resolver los rompecabezas de la vida. Lo mas cercano que nos acercamos al cambio llamado muerte\, muchos se preguntan\, “He hecho lo suficiente para ganar mi ascension?”. \nIngresa Serapis Bey! Como el Jerarca del Templo de la Ascension en Luxor\, este incomparable chohan\, quien ama tu alma mas de lo que nunca sabras\, esta listo a ensenarte desde su propio manual\, Dossier de la Ascension. Te demuestra lo que es importante y lo que no lo es para prepararte para la Ascension. Y te instruye en como hacer la ascensin no tan solo como una serie de pasos en tu vida\, pero de un viaje que incluye el amor el cual te va a llevar de frente al corazon de Dios. \nLos puntos mas destacados que puede esperar: \n* Esclarecedoras conferencias inéditas del Summit University de Elizabeth Clare Prophet sobre el Dossier de la Ascensión.\n* Ensenanzas que cambiaran la vida en como hacer la ascension\, incluyendo como pasar las pruebas de la llama trina y del orgullo.\n* Ejercicios iluminadores y reflecciones para ayudarte a discernir tus pasos siguientes en el sendero de la ascencion.\n* Dictados inspiradores de Serapis Bey\, Kuthumi\, Amen Bey y la maestra ascendida Clara Louise en caminar el sendero de la ascension.\nUna bendicion especial a un chakra con la amatista en forma de huevo de la mensajera\, caragada por Serapis Bey como un foco de la llama de la ascension.\n* Historias convincentes de miembros del Summit Lighthouse que han hecho sus ascensiones. \nReferencia de libros: \nMark L. Prophet\, El Dossier de la Ascencion (Summit University Press®)\,\nAnnice Booth\, El Sendero a Vuestra Ascension (Summit University Press®)\,\nMark L. Prophet and Elizabeth Clare Prophet\,\nLos Maestros y el Sendero Espiritual (Summit University Press®)\,\nBiblia (King James Version)
URL:https://summituniversity.org/event/ascend-daily-enter-the-spiral-of-immortal-life-3/
LOCATION:Medellin\, Colombia\, Carrera 79 # 48 - 63\, Medellin\, Antioquia\, 050032\, Colombia
CATEGORIES:Seminars
ATTACH;FMTTYPE=image/jpeg:https://summituniversity.org/wp-content/uploads/2023/02/a3.jpg
END:VEVENT
END:VCALENDAR