BEGIN:VCALENDAR
VERSION:2.0
PRODID:-//Summit University - ECPv6.15.20//NONSGML v1.0//EN
CALSCALE:GREGORIAN
METHOD:PUBLISH
X-WR-CALNAME:Summit University
X-ORIGINAL-URL:https://summituniversity.org
X-WR-CALDESC:Events for Summit University
REFRESH-INTERVAL;VALUE=DURATION:PT1H
X-Robots-Tag:noindex
X-PUBLISHED-TTL:PT1H
BEGIN:VTIMEZONE
TZID:America/Argentina/Buenos_Aires
BEGIN:STANDARD
TZOFFSETFROM:-0300
TZOFFSETTO:-0300
TZNAME:-03
DTSTART:20230101T000000
END:STANDARD
END:VTIMEZONE
BEGIN:VEVENT
DTSTART;TZID=America/Argentina/Buenos_Aires:20240906T080000
DTEND;TZID=America/Argentina/Buenos_Aires:20240908T170000
DTSTAMP:20260423T094643
CREATED:20240503T002856Z
LAST-MODIFIED:20240503T005144Z
UID:227334-1725609600-1725814800@summituniversity.org
SUMMARY:La recreación del ser (Argentina)
DESCRIPTION:The Re-Creation of Self—Healing with Mother Mary\nWith Mother Mary and the Great Lord Sanat Kumara \nLearn about the Blessed Mother Mary as healer of the soul and as psychologist supreme. With penetrating insight into the human equation\, she will guide you on the path to true healing and wholeness.\n—-\nThe Re-Creation of Self—Healing with Mother Mary is a seminar on the Blessed Mother\, who serves on the green ray of healing\, wholeness and abundance. \nThe seminar is focused on the healing and renewal of body\, soul and spirit\, with a special emphasis on the resolution of our personal psychology. Learn how to use spiritual tools like the healing thoughtform and the rosary for personal healing and discover what it means to truly re-create yourself.\nTherefore it is now most essential that you assess yourself\, the capacities of your respective four lower bodies\, that you seek to increase those capacities and yet observe the law of the sine wave\, of the going within\, of the necessary rest\, the necessary re-creation of the four lower bodies and the pacing of yourself. That pacing\, beloved\, is most essential because only in the cycles of time and space can all things be fulfilled. \n—Mother Mary\, Pearls of Wisdom Vol. 32 No. 44 \nTopics include: \n• Mother Mary—her embodiments and her work as an ascended lady master\n• The ascended master perspective on true healing\n• The rosary\n• The science of the immaculate concept and the healing thoughtform\n• How to resolve your psychology\, including overcoming deep-seated fear \nDictations (audio/video replays) by: Mother Mary and the Great Lord Sanat Kumara \nOther seminar features: \nThis seminar includes a unique purification ritual called a clearance\, and concludes with a chakra blessing.\nLevel: Basic\nLength: 2.5-3 days \nRecommended texts (available from the SU Online Bookstore): \n• Prophet\, Elizabeth Clare\, with Annice Booth\, The Age of the Divine Mother (Summit University Press\, 2006)\n• Prophet\, Mark L.\, and Elizabeth Clare Prophet\, Mary’s Message for a New Day (Summit University Press\, 2003)\n• Prophet\, Mark L.\, and Elizabeth Clare Prophet\, Mary’s Message of Divine Love (Summit University Press\, 2004)
URL:https://summituniversity.org/event/la-recreacion-del-ser/
LOCATION:Salta\, Argentina\, Salta\, Argentina
CATEGORIES:Seminars
ATTACH;FMTTYPE=image/png:https://summituniversity.org/wp-content/uploads/2024/05/Seminar-The-Re-Creation-of-Self.png
END:VEVENT
END:VCALENDAR