BEGIN:VCALENDAR
VERSION:2.0
PRODID:-//Summit University - ECPv6.15.20//NONSGML v1.0//EN
CALSCALE:GREGORIAN
METHOD:PUBLISH
X-WR-CALNAME:Summit University
X-ORIGINAL-URL:https://summituniversity.org
X-WR-CALDESC:Events for Summit University
REFRESH-INTERVAL;VALUE=DURATION:PT1H
X-Robots-Tag:noindex
X-PUBLISHED-TTL:PT1H
BEGIN:VTIMEZONE
TZID:Australia/Adelaide
BEGIN:STANDARD
TZOFFSETFROM:+1030
TZOFFSETTO:+0930
TZNAME:ACST
DTSTART:20240406T163000
END:STANDARD
BEGIN:DAYLIGHT
TZOFFSETFROM:+0930
TZOFFSETTO:+1030
TZNAME:ACDT
DTSTART:20241005T163000
END:DAYLIGHT
BEGIN:STANDARD
TZOFFSETFROM:+1030
TZOFFSETTO:+0930
TZNAME:ACST
DTSTART:20250405T163000
END:STANDARD
BEGIN:DAYLIGHT
TZOFFSETFROM:+0930
TZOFFSETTO:+1030
TZNAME:ACDT
DTSTART:20251004T163000
END:DAYLIGHT
BEGIN:STANDARD
TZOFFSETFROM:+1030
TZOFFSETTO:+0930
TZNAME:ACST
DTSTART:20260404T163000
END:STANDARD
BEGIN:DAYLIGHT
TZOFFSETFROM:+0930
TZOFFSETTO:+1030
TZNAME:ACDT
DTSTART:20261003T163000
END:DAYLIGHT
END:VTIMEZONE
BEGIN:VEVENT
DTSTART;TZID=Australia/Adelaide:20250114T080000
DTEND;TZID=Australia/Adelaide:20250118T170000
DTSTAMP:20260423T040416
CREATED:20241214T042236Z
LAST-MODIFIED:20241214T042821Z
UID:227706-1736841600-1737219600@summituniversity.org
SUMMARY:Ascend Daily! Enter the Spiral of Immortal Life (Australia)
DESCRIPTION:Ascension. It’s a word full of mystery and wonder. It’s also the goal of life as defined by the ascended masters and their messengers. But it is not easy to measure one’s own progress on the spiritual path toward the ascension\, Hence\, the need for divinely directed discernment. \nEnter Serapis Bey! As the Hierarch of the Ascension Temple at Luxor\, this incomparable chohan\, who loves your soul more than you’ll ever know\, is ready to teach you from his very own manual\, Dossier on the Ascension. He will show you what is important and what’s not in striving toward your ascension. And he will guide you on making the ascension an all-encompassing journey of love that will lead you right back to the heart of your very own divinity\, your reunion with your very own I AM God Presence. \nI call you to Luxor! I call you to take your entrance exam. For we are receiving students for a course that will endure throughout this year—a course on the ascension. \n—Serapis Bey\, Pearls of Wisdom® vol. 63 no. 21 \nThis seminar includes: \n\nEnlightening unpublished Summit University lectures from Elizabeth Clare Prophet on Dossier on the Ascension\nLife-changing teachings on the threefold flame\, the deathless solar body\, balancing karma\, chelaship\, the path of initiation\, divine friendship with the ascended masters and more\nIlluminating exercises and reflections to help you discern your next steps on the path of the ascension\nInspiring dictations from Serapis Bey\, Lanello and the ascended lady master Clara Louise on walking the path of the ascension\nA special chakra blessing
URL:https://summituniversity.org/event/ascend-daily-enter-the-spiral-of-immortal-life-6/
LOCATION:Australia\, Wisemans Retreat Centre\, 5564 Old Northern Rd\,\, Wisemans Ferry NSW 2775\, Australia
CATEGORIES:Seminars
ATTACH;FMTTYPE=image/jpeg:https://summituniversity.org/wp-content/uploads/2022/05/seminar1.jpg
END:VEVENT
END:VCALENDAR