BEGIN:VCALENDAR
VERSION:2.0
PRODID:-//Summit University - ECPv6.15.20//NONSGML v1.0//EN
CALSCALE:GREGORIAN
METHOD:PUBLISH
X-WR-CALNAME:Summit University
X-ORIGINAL-URL:https://summituniversity.org
X-WR-CALDESC:Events for Summit University
REFRESH-INTERVAL;VALUE=DURATION:PT1H
X-Robots-Tag:noindex
X-PUBLISHED-TTL:PT1H
BEGIN:VTIMEZONE
TZID:America/Mexico_City
BEGIN:STANDARD
TZOFFSETFROM:-0600
TZOFFSETTO:-0600
TZNAME:CST
DTSTART:20240101T000000
END:STANDARD
END:VTIMEZONE
BEGIN:VTIMEZONE
TZID:Europe/Stockholm
BEGIN:DAYLIGHT
TZOFFSETFROM:+0100
TZOFFSETTO:+0200
TZNAME:CEST
DTSTART:20240331T010000
END:DAYLIGHT
BEGIN:STANDARD
TZOFFSETFROM:+0200
TZOFFSETTO:+0100
TZNAME:CET
DTSTART:20241027T010000
END:STANDARD
BEGIN:DAYLIGHT
TZOFFSETFROM:+0100
TZOFFSETTO:+0200
TZNAME:CEST
DTSTART:20250330T010000
END:DAYLIGHT
BEGIN:STANDARD
TZOFFSETFROM:+0200
TZOFFSETTO:+0100
TZNAME:CET
DTSTART:20251026T010000
END:STANDARD
BEGIN:DAYLIGHT
TZOFFSETFROM:+0100
TZOFFSETTO:+0200
TZNAME:CEST
DTSTART:20260329T010000
END:DAYLIGHT
BEGIN:STANDARD
TZOFFSETFROM:+0200
TZOFFSETTO:+0100
TZNAME:CET
DTSTART:20261025T010000
END:STANDARD
END:VTIMEZONE
BEGIN:VEVENT
DTSTART;TZID=America/Mexico_City:20251114T080000
DTEND;TZID=America/Mexico_City:20251116T170000
DTSTAMP:20260422T142927
CREATED:20251001T043430Z
LAST-MODIFIED:20251001T043631Z
UID:228476-1763107200-1763312400@summituniversity.org
SUMMARY:Walking with the World Teachers A Journey of Discipleship and Love (Torreon. Mex)
DESCRIPTION:Corona Class Lessons \nEnter the Path of Discipleship under the World Teachers \n“For Those Who Would Teach Men the Way” \nJuly 7 – 11\, 2025 \nThe Inner Retreat in Montana \nThe path of discipleship seems to be forgotten in this modern day and age. Still\, in the inner recesses of our hearts and souls\, the path of discipleship is very much alive. The World Teachers\, Jesus and Kuthumi\, invite us to enter this path as their disciples\, all the way to the ascension. In this seminar\, they will take us on an all-encompassing and illuminating journey outlining and explaining this soul-liberating and most practical path leading to personal Christhood\, compelling outreach and world service. Only to discover that the essence of the Path is Love. \nBeloved Jesus and I as World Teachers have undertaken this Corona Class by correspondence with an end in view—the multiplying of our own hands and feet. … \nYour own hearts become chalices into which we pour the fragrances of our spiritual graces\, thereby enriching everyone with receptive mind and spirit so fortunate as to come in contact with you. Thus\, seeing you\, these can begin to believe that God dwells in human form. Oh\, I do hope you see this! For it is the secret of the love that has always existed between Master and disciple.  \n~ Beloved Kuthumi\, Corona Class Lesson 1: “Brotherhood – ‘Feed My Sheep!’” \nOur purpose in this series of Corona Class instruction on discipleship is to address those who would learn to teach others the Way and find thereby greater illumination and avenues of service for their own mission. We now desire to bring the brilliance of God-illumination into play upon the sacred pages of the lives of the devotees so that the bread that comes down from heaven may be on earth the living Word. \n~ Beloved Jesus\, Corona Class Lesson 25: “Requirement – ‘Here I AM\, Send Me!’”
URL:https://summituniversity.org/event/walking-with-the-world-teachers-a-journey-of-discipleship-and-love/
LOCATION:Torréon México\, Torreon\, Mexico
CATEGORIES:Seminars
ATTACH;FMTTYPE=image/jpeg:https://summituniversity.org/wp-content/uploads/2025/05/2.jpg
END:VEVENT
BEGIN:VEVENT
DTSTART;TZID=Europe/Stockholm:20251114T080000
DTEND;TZID=Europe/Stockholm:20251116T170000
DTSTAMP:20260422T142927
CREATED:20251028T012407Z
LAST-MODIFIED:20251028T013117Z
UID:228492-1763107200-1763312400@summituniversity.org
SUMMARY:Darshan with the Messenger: Embrace Your Sacred Labor! (Holland)
DESCRIPTION:Darshan with the Messenger: Embrace Your Sacred Labor!\nwith Gautama Buddha the Great Divine Director \n  \nEach soul has a unique calling or divine plan\, which includes a sacred labor. Pursuing one’s sacred labor is key to the opening and blossoming of the heart and to fulfilling one’s mission in life. \nThis three-day Summit University seminar focuses on discerning your sacred labor and making a deep connection with the divine direction for your soul. \nThe program includes: \n\nVideo replays of Elizabeth Clare Prophet’s profound series “Darshan with the Messenger\,” centering on the labor of love as the heart-tie between students on the Path and the Ascended Masters\nEnlightening dictations (on video or audio) by El Morya\, Jesus Christ and Gautama Buddha on what it truly means to embrace one’s sacred labor\nHands-on exercises to help you formulate your mission statement and map out practical steps to put your sacred labor into action in the here and now\n\n  \nTextbooks used in the seminar: \nC.W. Leadbeater\, The Masters and the Path (various editions) \nLaurie Beth Jones\, The Path (Hyperion\, 1996) \n 
URL:https://summituniversity.org/event/darshan-with-the-messenger-embrace-your-sacred-labor-holland/
LOCATION:Amersfoort\, Holland\, Snelliuspad 23\, 3817 TN\, Amersfoort\, TN\, Netherlands\,\, Netherlands
CATEGORIES:Seminars
ATTACH;FMTTYPE=image/png:https://summituniversity.org/wp-content/uploads/2025/10/Seminar-Embrace-Your-Sacred-Labor.png
END:VEVENT
END:VCALENDAR