BEGIN:VCALENDAR
VERSION:2.0
PRODID:-//Summit University - ECPv6.15.20//NONSGML v1.0//EN
CALSCALE:GREGORIAN
METHOD:PUBLISH
X-ORIGINAL-URL:https://summituniversity.org
X-WR-CALDESC:Events for Summit University
REFRESH-INTERVAL;VALUE=DURATION:PT1H
X-Robots-Tag:noindex
X-PUBLISHED-TTL:PT1H
BEGIN:VTIMEZONE
TZID:Europe/Stockholm
BEGIN:DAYLIGHT
TZOFFSETFROM:+0100
TZOFFSETTO:+0200
TZNAME:CEST
DTSTART:20240331T010000
END:DAYLIGHT
BEGIN:STANDARD
TZOFFSETFROM:+0200
TZOFFSETTO:+0100
TZNAME:CET
DTSTART:20241027T010000
END:STANDARD
BEGIN:DAYLIGHT
TZOFFSETFROM:+0100
TZOFFSETTO:+0200
TZNAME:CEST
DTSTART:20250330T010000
END:DAYLIGHT
BEGIN:STANDARD
TZOFFSETFROM:+0200
TZOFFSETTO:+0100
TZNAME:CET
DTSTART:20251026T010000
END:STANDARD
BEGIN:DAYLIGHT
TZOFFSETFROM:+0100
TZOFFSETTO:+0200
TZNAME:CEST
DTSTART:20260329T010000
END:DAYLIGHT
BEGIN:STANDARD
TZOFFSETFROM:+0200
TZOFFSETTO:+0100
TZNAME:CET
DTSTART:20261025T010000
END:STANDARD
END:VTIMEZONE
BEGIN:VEVENT
DTSTART;TZID=Europe/Stockholm:20250321T090000
DTEND;TZID=Europe/Stockholm:20250323T180000
DTSTAMP:20260422T041408
CREATED:20250307T044131Z
LAST-MODIFIED:20250312T214513Z
UID:227874-1742547600-1742752800@summituniversity.org
SUMMARY:The Path of the Eastern Adept (Holland)
DESCRIPTION:Discover the Science of the Spirit with El Morya and Kuthumi\nMarch 21-23\, 2025\nTeaching Center Holland\, Amersfoort\nExplore why the ascended masters urge their students to pursue adeptship—and receive valuable tools and techniques for how to attain that goal! \nIn 1875\, a group of mysterious beings\, secluded in the hidden recesses of the Himalayas\, began an experiment of momentous impact: to lift a tip of the veil on their vast esoteric philosophy and reveal their existence to the West. They became known as the Adepts\, the Mahatmas\, or simply the Brothers—and they started a revolution in advanced spirituality that reverberates around the world to this day. \nTheir best-known spokesmen were Koot Hoomi and El Morya Khan—now known as the ascended masters Kuthumi and El Morya. From their lives in the late 1800s we glean tremendous insights about adeptship. What was being an eastern adept all about? What did they teach? What was their system of testing and training their students? And what was their goal? In this seminar we’ll explore answers to these questions. \nBut the story of the eastern adepts does not stop there. As ascended beings they urge us to follow in their footsteps and become adepts ourselves—because the world needs it. So what does it take\, and where do we start? Attend this seminar and find out! \nWe are ready to transfer to you blessings and initiations and an impetus for greater life within your temple. I ask you\, then\, to study all that you know about what the adepts have taught\, to do some form of yoga\, some form of meditation and to do so with the idea of entering in to new octaves of consciousness. \n—Saint Germain\, October 11\, 1993 \nWhat are we going to study?\n\nThe guru-chela relationship seen through the eyes of the Eastern adepts\, with a focus on probation\, testing and the deep love between the guru and the chela\nStages of initiation: an overview and comparison of the systems of East and West\nSelected readings from The Mahatma Letters to A.P. Sinnet\nTeachings on the Bhagavad Gita and Narada’s Bhakti Sutras\nEsoteric Buddhism: how the adepts acquired their vast knowledge of the universe\nMeditation instructions and practice sessions\nIntroduction to raja yoga\nPitfalls on the Path\n\nDictations:\nBy Saint Germain\, Mother Mary and Lord Maitreya \nMessages from the ascended masters\nAs the highlight of the day\, each day we will receive an appropriate message from the ascended masters. We will watch and listen to replays of dictations from Saint Germain\, Mother Mary and Lord Maitreya. A dictation is one of the profound experiences during this seminar\, where the masters work with us on many different levels of our consciousness. \nAdvanced level of study\nThe advanced level of study means that in order to fully benefit from this seminar\, the student needs an advanced understanding of the teachings of the ascended masters and the spiritual path. Newer students are therefore offered an “Essentials of the Teachings” program during the seminar\, with basic teachings and the opportunity to ask questions about the seminar material. \nRecommended texts (available from the Spiritual Store):\n\nAscended Master El Morya\, The Chela and the Path: Keys to Soul Mastery in the Aquarian Age (1975)\nJesus and Kuthumi\, Prayer and Meditation (1978)\nAlfred Trevor Barker\, The Mahatma Letters to A.P. Sinnett (various editions)\nCharles W. Leadbeater\, The Masters and the Path (various editions)\nThe Bhagavad Gita\n\nRecommended edition: Swami Prabhavanada and Christopher Isherwood (tr.)\, Bhagavad Gitā: The Song of God (various editions)\n\n\nThe Yoga Sutras of Patanjali or The Yoga Aphorisms of Patanjali\n\nRecommended edition: Swami Prabhavanada and Christopher Isherwood (tr.\, ed.\,)\, How to Know God: The Yoga Sutras of Patanjali (Vedanta Press\, various ed.)\n\n\nParamahansa Yogananda\, Autobiography of a Yogi\, (Los Angeles\, Self-Realization Fellowship\, various editions)\n\nRecommended resources (available from the Spiritual Store):\n\nMeditations to Become the Buddha – Guided Meditations by Elizabeth Clare Prophet (2010) 1 audio CD\nElizabeth Clare Prophet\, Darshan with the Messenger – 18 Darshans 1996 to 1997\, Complete Set: 4 MP3 Audio CDs\n\nParticipation\n\nParticipants have a basic knowledge of the teachings of the ascended masters and the science of the spoken Word\, or they have participated in the introductory class prior to the seminar\nParticipants have sufficient understanding of the English language to attend the seminar in English\nThe seminar begins Friday\, at 9:00 a.m. CET and ends Sunday\, March 23\, at 6:00 p.m. CET\n\nSign up\n\nRegistration on-site and online: Sign up at https://summituniversity.info/\nPre-registration price until March 3rd: € 130. Price after March 3rd: € 150\nLast day to register: Thursday\, March 20 (within office hours)\nDiscount: seniors (65+) and full-time students receive a 10% discount. Leave a comment in the memo box if you qualify for the discount. Pre-registration – 130-13= €117 and Registration – 150-15= €135\nCancellation Policy: We charge a 25% cancellation fee for any cancellations within seven days of the event start date\, including “no shows\,” to cover administrative costs\n\n\nSign up now\n\nContact\nQuestions about the seminar: registration@summitlighthouse.nl (in English or Dutch) \nThe Summit Lighthouse Holland\nSnelliuspad 23\n3817 TN Amersfoort\nTSLH@summitlighthouse.nl
URL:https://summituniversity.org/event/the-path-of-the-eastern-adept-holland/
LOCATION:Amersfoort\, Holland\, Snelliuspad 23\, 3817 TN\, Amersfoort\, TN\, Netherlands\,\, Netherlands
CATEGORIES:Seminars
ATTACH;FMTTYPE=image/jpeg:https://summituniversity.org/wp-content/uploads/2025/03/Seminar-The-Path-of-the-Eastern-Adept.jpg
ORGANIZER;CN="The Summit Lighthouse Holland":MAILTO:registration@SummitLighthouse.nl
END:VEVENT
END:VCALENDAR