BEGIN:VCALENDAR
VERSION:2.0
PRODID:-//Summit University - ECPv6.15.20//NONSGML v1.0//EN
CALSCALE:GREGORIAN
METHOD:PUBLISH
X-WR-CALNAME:Summit University
X-ORIGINAL-URL:https://summituniversity.org
X-WR-CALDESC:Events for Summit University
REFRESH-INTERVAL;VALUE=DURATION:PT1H
X-Robots-Tag:noindex
X-PUBLISHED-TTL:PT1H
BEGIN:VTIMEZONE
TZID:America/Denver
BEGIN:DAYLIGHT
TZOFFSETFROM:-0700
TZOFFSETTO:-0600
TZNAME:MDT
DTSTART:20250309T090000
END:DAYLIGHT
BEGIN:STANDARD
TZOFFSETFROM:-0600
TZOFFSETTO:-0700
TZNAME:MST
DTSTART:20251102T080000
END:STANDARD
BEGIN:DAYLIGHT
TZOFFSETFROM:-0700
TZOFFSETTO:-0600
TZNAME:MDT
DTSTART:20260308T090000
END:DAYLIGHT
BEGIN:STANDARD
TZOFFSETFROM:-0600
TZOFFSETTO:-0700
TZNAME:MST
DTSTART:20261101T080000
END:STANDARD
BEGIN:DAYLIGHT
TZOFFSETFROM:-0700
TZOFFSETTO:-0600
TZNAME:MDT
DTSTART:20270314T090000
END:DAYLIGHT
BEGIN:STANDARD
TZOFFSETFROM:-0600
TZOFFSETTO:-0700
TZNAME:MST
DTSTART:20271107T080000
END:STANDARD
END:VTIMEZONE
BEGIN:VEVENT
DTSTART;TZID=America/Denver:20260707T080000
DTEND;TZID=America/Denver:20260711T170000
DTSTAMP:20260422T080406
CREATED:20260421T230011Z
LAST-MODIFIED:20260422T004420Z
UID:228656-1783411200-1783789200@summituniversity.org
SUMMARY:JEREMIAH Strategies of Light for Personal and Planetary Freedom
DESCRIPTION:English\n    Español\n  \n\n  \n  \n\n    \n      Summer Seminar 2026\n      July 7–11\, 2026\n      The Inner Retreat in Montana  \n    \n\n    \n      \n\n        \n          A Time of Hope and Spiritual Renewal\n\n          Are we living in a time of an open door to spiritual renewal? Can Jeremiah’s ultimate message of hope be fulfilled by Keepers of the Flame who embody the light of the living Christ and the new dispensation of the eighth covenant?  \n\n          This seminar explores today’s challenges to freedom with profound teachings by Elizabeth Clare Prophet on Jeremiah’s prophetic message. Come to answer the call for discipleship on the path of the World Teachers as a roadmap for spiritual and global change.  \n        \n\n        \n          About this Seminar\n          Discover strategies of light for spiritual transformation\, soul liberation\, and the co-creation of a golden age with the ascended masters and friends of freedom.  \n        \n\n      \n    \n\n    \n      \n\n        \n          “Keepers of the Flame\, you are called to embody the Person of the Good Shepherd under the World Teachers. I have sponsored you and continue to sponsor you as you gather in our teaching centers and at Summit University for the Seminar of the World Teachers\, the first in the series of initiations leading to the conferment of the mantle of the World Teachers.”  \n          Beloved Sanat Kumara\n        \n\n        \n          “For I AM the Lord thy God in the very presence that I AM Sanat Kumara. I speak to you as my eye is upon each one of you. I have summoned you that I might anoint you. And this one thing I would have you understand: that the days of Jeremiah are past! And this is the new dispensation of the eighth covenant! And even so\, the fiery coil of my causal body has descended. And the very self-transcending of the cycles decrees in this hour that more than Jeremiah come unto you.”  \n          Beloved Sanat Kumara\n        \n\n      \n    \n\n    \n      \n        In This Seminar You Can\n        Be inspired\, empowered\, and equipped with practical spiritual tools for your path of discipleship and service to life.  \n      \n\n      \n        \n          Answer the call of the World Teachers\, Sanat Kumara\, and Lord Maitreya to use strategies of light for “the kindling unto far-off lands of all who are the I AM Race!”  \n        \n\n        \n          Experience the transformative spiral of unpublished teachings of ancient history 450\,000 years ago and the origins of evil that fill in the missing links to your spiritual identity and call for discipleship on the path of the World Teachers.  \n        \n\n        \n          Be inspired and empowered to understand your unique role in sharing the message of soul liberation and co-creating a golden age with the ascended masters and friends of freedom.  \n        \n\n        \n          Reflect upon spiritual teachings by Elizabeth Clare Prophet on the karmic lessons in the message of the prophet Jeremiah and how to apply a science known as the Cosmic Clock to returning cycles of karma and the issues of our time.  \n        \n\n        \n          Practice meditation techniques and accelerated prayer for alignment of your four lower bodies and attunement of your chakras and soul with your Higher Mind and Divine Presence.  \n        \n\n        \n          Hear inspiring dictations from Kuan Yin\, Zarathustra\, Cyclopea\, Ray-O-Light\, Sanat Kumara\, and Lord Maitreya.  \n        \n      \n    \n\n    \n      \n        Come Answer the Call\n        Join us at The Inner Retreat in Montana for a powerful gathering of discipleship\, spiritual renewal\, and the light of the World Teachers.  \n        Registration will be available soon\n      \n    \n\n  \n\n  \n  \n\n    \n      Seminario de Verano 2026\n      7–11 de julio de 2026\n      El Retiro Interno\, Montana  \n    \n\n    \n      \n\n        \n          Un tiempo de esperanza y renovación espiritual\n\n          ¿Estamos viviendo un tiempo de puerta abierta a la renovación espiritual? ¿Puede cumplirse el mensaje supremo de esperanza de Jeremías por medio de Guardianes de la Llama que encarnen la luz del Cristo vivo y la nueva dispensación del octavo pacto?  \n\n          Este seminario explora los desafíos actuales a la libertad a través de profundas enseñanzas de Elizabeth Clare Prophet sobre el mensaje profético de Jeremías. Ven a responder al llamado al discipulado en el sendero de los Instructores del Mundo como una hoja de ruta para el cambio espiritual y global.  \n        \n\n        \n          Sobre este seminario\n          Descubre estrategias de luz para la transformación espiritual\, la liberación del alma y la cocreación de una edad de oro con los maestros ascendidos y los amigos de la libertad.  \n        \n\n      \n    \n\n    \n      \n\n        \n          “Guardianes de la Llama\, estáis llamados a encarnar la Persona del Buen Pastor bajo los Instructores del Mundo. Os he patrocinado y continúo patrocinándoos mientras os reunís en nuestros centros de enseñanza y en Summit University para el Seminario de los Instructores del Mundo\, el primero en la serie de iniciaciones que conduce al otorgamiento del manto de los Instructores del Mundo.”  \n          Amado Sanat Kumara\n        \n\n        \n          “Porque YO SOY el Señor tu Dios en la misma presencia en que YO SOY Sanat Kumara. Os hablo mientras mi ojo está sobre cada uno de vosotros. Os he convocado para poder ungiros. Y esta única cosa quisiera que comprendierais: ¡que los días de Jeremías han pasado! ¡Y esta es la nueva dispensación del octavo pacto! Y aun así\, el ígneo espiral de mi cuerpo causal ha descendido. Y el mismo trascender de los ciclos decreta en esta hora que más que Jeremías venga a vosotros.”  \n          Amado Sanat Kumara\n        \n\n      \n    \n\n    \n      \n        En este seminario podrás\n        Recibir inspiración\, fortaleza y herramientas espirituales prácticas para tu sendero de discipulado y servicio a la vida.  \n      \n\n      \n        \n          Responder al llamado de los Instructores del Mundo\, Sanat Kumara y el Señor Maitreya para usar estrategias de luz para “¡el encendido en lejanas tierras de todos los que son la Raza YO SOY!”  \n        \n\n        \n          Experimentar la espiral transformadora de enseñanzas inéditas de la historia antigua de hace 450\,000 años y de los orígenes del mal\, las cuales completan los eslabones perdidos de tu identidad espiritual y de tu llamado al discipulado en el sendero de los Instructores del Mundo.  \n        \n\n        \n          Recibir inspiración y fortaleza para comprender tu papel único en compartir el mensaje de la liberación del alma y en cocrear una edad de oro con los maestros ascendidos y los amigos de la libertad.  \n        \n\n        \n          Reflexionar sobre enseñanzas espirituales de Elizabeth Clare Prophet acerca de las lecciones kármicas en el mensaje del profeta Jeremías y sobre cómo aplicar una ciencia conocida como el Reloj Cósmico a los ciclos de karma que retornan y a las cuestiones de nuestro tiempo.  \n        \n\n        \n          Practicar técnicas de meditación y oración acelerada para la alineación de tus cuatro cuerpos inferiores y la sintonía de tus chakras y de tu alma con tu Mente Superior y tu Presencia Divina.  \n        \n\n        \n          Escuchar inspiradoras dictados de Kuan Yin\, Zaratustra\, Cyclopea\, Ray-O-Light\, Sanat Kumara y el Señor Maitreya.  \n        \n      \n    \n\n    \n      \n        Ven a responder al llamado\n        Acompáñanos en el Retiro Interno en Montana\, para un poderoso encuentro de discipulado\, renovación espiritual y la luz de los Instructores del Mundo.  \n        La inscripción estará disponible pronto
URL:https://summituniversity.org/event/jeremiah-strategies-of-light-for-personal-and-planetary-freedom/
LOCATION:Royal Teton Ranch (worldwide broadcast)\, 63 Summit Way\, Gardiner\, MT\, 59030\, United States
CATEGORIES:Seminars
ATTACH;FMTTYPE=image/jpeg:https://summituniversity.org/wp-content/uploads/2026/04/ChatGPT-Image-21-abr-2026-06_12_49-p.m.jpg
END:VEVENT
END:VCALENDAR